BEGIN:VCALENDAR
VERSION:2.0
PRODID:-//Raststätte - ECPv6.5.1.5//NONSGML v1.0//EN
CALSCALE:GREGORIAN
METHOD:PUBLISH
X-WR-CALNAME:Raststätte
X-ORIGINAL-URL:https://raststaette.org
X-WR-CALDESC:Veranstaltungen für Raststätte
REFRESH-INTERVAL;VALUE=DURATION:PT1H
X-Robots-Tag:noindex
X-PUBLISHED-TTL:PT1H
BEGIN:VTIMEZONE
TZID:Europe/Berlin
BEGIN:DAYLIGHT
TZOFFSETFROM:+0100
TZOFFSETTO:+0200
TZNAME:CEST
DTSTART:20250330T010000
END:DAYLIGHT
BEGIN:STANDARD
TZOFFSETFROM:+0200
TZOFFSETTO:+0100
TZNAME:CET
DTSTART:20251026T010000
END:STANDARD
END:VTIMEZONE
BEGIN:VEVENT
DTSTART;TZID=Europe/Berlin:20251207T150000
DTEND;TZID=Europe/Berlin:20251207T220000
DTSTAMP:20260419T175439
CREATED:20251202T190810Z
LAST-MODIFIED:20251202T190810Z
UID:10004269-1765119600-1765144800@raststaette.org
SUMMARY:Matinée Électronique
DESCRIPTION:Matinée Electronique\nSo 7. Dezember 15:00-22:00 Uhr \nMusik\nRomy\nJust Joules\nMic Sander\nTurtur\nAaaah!? \nAusstellung\nMey Amisa \n  \nMatinée Electronique hosted by Jolle + Youssef. Eintritt frei.
URL:https://raststaette.org/termine/matinee-electronique-12-2025/
LOCATION:Raststätte\, Lothringerstraße 23\, Aachen\, NRW\, 52062\, Deutschland
CATEGORIES:Ausstellung,Musik,Party
ATTACH;FMTTYPE=image/png:https://raststaette.org/wp-content/uploads/2025/12/matinee-web-image.png
END:VEVENT
END:VCALENDAR