BEGIN:VCALENDAR
VERSION:2.0
PRODID:-//Raststätte - ECPv6.5.1.5//NONSGML v1.0//EN
CALSCALE:GREGORIAN
METHOD:PUBLISH
X-ORIGINAL-URL:https://raststaette.org
X-WR-CALDESC:Veranstaltungen für Raststätte
REFRESH-INTERVAL;VALUE=DURATION:PT1H
X-Robots-Tag:noindex
X-PUBLISHED-TTL:PT1H
BEGIN:VTIMEZONE
TZID:Europe/Berlin
BEGIN:DAYLIGHT
TZOFFSETFROM:+0100
TZOFFSETTO:+0200
TZNAME:CEST
DTSTART:20250330T010000
END:DAYLIGHT
BEGIN:STANDARD
TZOFFSETFROM:+0200
TZOFFSETTO:+0100
TZNAME:CET
DTSTART:20251026T010000
END:STANDARD
END:VTIMEZONE
BEGIN:VEVENT
DTSTART;TZID=Europe/Berlin:20251224T110000
DTEND;TZID=Europe/Berlin:20251224T110000
DTSTAMP:20260419T145820
CREATED:20251014T132216Z
LAST-MODIFIED:20251014T132708Z
UID:10004249-1766574000-1766574000@raststaette.org
SUMMARY:Wilfo & Tani’s Weihnachtsspecial
DESCRIPTION:Dicke Jacke Familienkonzert \nEin besonderes Weihnachtsmorgen-Erlebnis für die ganze Familie!\nWilfo und Tani laden ein zu ihrem Weihnachtsspecial mit dem poetischen Mini-Musical „Die Flamme Heiß“ und einem charmanten Liederprogramm zum Lauschen\, Mitsingen und Bewegen. \nFür Kinder ab 3 Jahren – und alle\, die das Warten aufs Christkind fröhlich verkürzen möchten.\nEs wird gemütlich kalt: Jacke und Mütze an – und dazu wärmt im Anschluss ein Becher Kinderpunsch! \nEinlass: ab 10:30 Uhr\nDauer: ca. 1 Stunde\nEintritt: frei / Spende erbeten \nWilfo und Tani – Lieder die kleine Herzen tanzen lassen\nwilfo-und-tani.de
URL:https://raststaette.org/termine/wilfo-tanis-weihnachtsspecial/
LOCATION:Raststätte\, Lothringerstraße 23\, Aachen\, NRW\, 52062\, Deutschland
CATEGORIES:Für Kinder,Konzert,Musik
ATTACH;FMTTYPE=image/jpeg:https://raststaette.org/wp-content/uploads/2025/10/2025-12-24-Wilfo-und-Tani.jpg
END:VEVENT
END:VCALENDAR