BEGIN:VCALENDAR
VERSION:2.0
PRODID:-//Raststätte - ECPv6.5.1.5//NONSGML v1.0//EN
CALSCALE:GREGORIAN
METHOD:PUBLISH
X-ORIGINAL-URL:https://raststaette.org
X-WR-CALDESC:Veranstaltungen für Raststätte
REFRESH-INTERVAL;VALUE=DURATION:PT1H
X-Robots-Tag:noindex
X-PUBLISHED-TTL:PT1H
BEGIN:VTIMEZONE
TZID:Europe/Berlin
BEGIN:DAYLIGHT
TZOFFSETFROM:+0100
TZOFFSETTO:+0200
TZNAME:CEST
DTSTART:20260329T010000
END:DAYLIGHT
BEGIN:STANDARD
TZOFFSETFROM:+0200
TZOFFSETTO:+0100
TZNAME:CET
DTSTART:20261025T010000
END:STANDARD
END:VTIMEZONE
BEGIN:VEVENT
DTSTART;TZID=Europe/Berlin:20260115T183000
DTEND;TZID=Europe/Berlin:20260115T220000
DTSTAMP:20260419T233544
CREATED:20260109T153852Z
LAST-MODIFIED:20260109T154315Z
UID:10004271-1768501800-1768514400@raststaette.org
SUMMARY:Wo bist du? Verschollen zwischen Belarus & Polen
DESCRIPTION:Bürger*innenasyl Aachen & Raststätte laden ein:\nFilmvorstellung & Austausch\nder rbb-Dokumentation „Wo bist du? Verschollen zwischen Belarus & Polen“ \nFilmabend der Initiative Bürger*innenasyl Aachen in der Raststätte\nDas Jahr 2025 hat für Migrant*innen und Geflüchtete in Deutschland und ganz Europa nicht viel Gutes hervorgebracht.\nEuropa schottet sich ab: Meterhohe Grenzzäune\, Stacheldraht\, bewaffnete Soldaten. Täglich kommt es an der EU-Außengrenze in Polen\, Griechenland oder Kroatien zu Völkerrechtsbrüchen und brutaler Gewalt gegen Geflüchtete – oft jenseits aller Öffentlichkeit. \n„Die Lage an der polnisch-belarussischen Grenze ist seit Jahren angespannt. Immer noch versuchen tausende Menschen über Belarus nach Polen und damit in die EU zu kommen. Viele wollen hier einen Asylantrag stellen. In den beinahe undurchdringlichen Wäldern der Grenzregion verschwinden dabei regelmäßig Menschen. Rekaut Rachid aus dem irakischen Erbil sucht seit fast drei Jahren nach seinem Neffen Mohammed. Polnische Freiwillige unterstützen ihn bei dieser quälenden Aufgabe. (…) Berichte von Hilfsorganisationen weisen darauf hin\, dass die polnischen Behörden immer wieder Migranten ohne Verfahren nach Belarus\, und damit ins Ungewisse abschieben. Auch Mohammeds Spur führt nach Belarus. Wird es Rekaut endlich gelingen\, seinen Neffen zu finden?“ (ARD Mediathek) \nWir möchten den Film bei einem leckeren Getränk mit euch gemeinsam anschauen und uns danach in lockerer Atmosphäre darüber austauschen.\nUm 18:00 Uhr öffnen die Türen\, um 19:00 Uhr startet der Film.\nWir freuen uns auf euch! \nDas Bürger*innenasyl Aachen unterstützt Menschen auf der Flucht\, indem ihnen temporär Unterkunft und Unterstützung angeboten wird.\nMehr Infos findet ihr unter:\nbuergerinnenasylaachen.noblogs.org
URL:https://raststaette.org/termine/wo-bist-du-verschollen-zwischen-belarus-polen/
LOCATION:Raststätte\, Lothringerstraße 23\, Aachen\, NRW\, 52062\, Deutschland
CATEGORIES:Film
ATTACH;FMTTYPE=image/jpeg:https://raststaette.org/wp-content/uploads/2026/01/2026-01-15-B-Asyl.jpg
END:VEVENT
END:VCALENDAR