BEGIN:VCALENDAR
VERSION:2.0
PRODID:-//Raststätte - ECPv6.5.1.5//NONSGML v1.0//EN
CALSCALE:GREGORIAN
METHOD:PUBLISH
X-ORIGINAL-URL:https://raststaette.org
X-WR-CALDESC:Veranstaltungen für Raststätte
REFRESH-INTERVAL;VALUE=DURATION:PT1H
X-Robots-Tag:noindex
X-PUBLISHED-TTL:PT1H
BEGIN:VTIMEZONE
TZID:Europe/Berlin
BEGIN:DAYLIGHT
TZOFFSETFROM:+0100
TZOFFSETTO:+0200
TZNAME:CEST
DTSTART:20260329T010000
END:DAYLIGHT
BEGIN:STANDARD
TZOFFSETFROM:+0200
TZOFFSETTO:+0100
TZNAME:CET
DTSTART:20261025T010000
END:STANDARD
END:VTIMEZONE
BEGIN:VEVENT
DTSTART;TZID=Europe/Berlin:20260123T193000
DTEND;TZID=Europe/Berlin:20260123T220000
DTSTAMP:20260419T185831
CREATED:20260109T160211Z
LAST-MODIFIED:20260109T165227Z
UID:10004272-1769196600-1769205600@raststaette.org
SUMMARY:Aylin Leclaire | Julian Rybarski | Rycca
DESCRIPTION:99 rockets records präsentiert:\nAylin Leclaire | Julian Rybarski | Rycca \nAylin Leclaire entführt uns mit ihrem folkloristisch-düsterpopigen Elektrosound immer wieder auf Reisen in andere Welten und Dimensionen. Die deutsch-türkische Musikerin erzählt mit komplexen Beats und ihrer virtuosen Stimme emotionsgeladene Geschichten\, in denen sich ihre eigenen Lebenserfahrungen mit einer außerirdischen Poesie vermischen.\naylinleclaire.com \nJulian Rybarski und seine Band präsentieren Rock mit einem Hauch Americana\, Soul\, Blues und Rockabilly sowie einer großen Portion eingängiger Melodien. Manchmal mit einem deutlichen Indie-Touch\, meist tanzbar und immer zum Mitsummen.\njulianrybarskimusic.com \nRYCCA ist Liedermacherin und performt in ihrem Soloprojekt mit Stimme\, E-Bass\, Synthesizer\, Klavier und der Loopstation.\nrebeccahimmerich.de \n99rocketsrecords.de/artists
URL:https://raststaette.org/termine/aylin-leclaire-julian-rybarski-rycca/
LOCATION:Raststätte\, Lothringerstraße 23\, Aachen\, NRW\, 52062\, Deutschland
CATEGORIES:Konzert,Musik
ATTACH;FMTTYPE=image/jpeg:https://raststaette.org/wp-content/uploads/2026/01/2026-01-23-Konzert.jpg
END:VEVENT
END:VCALENDAR