BEGIN:VCALENDAR
VERSION:2.0
PRODID:-//Raststätte - ECPv6.5.1.5//NONSGML v1.0//EN
CALSCALE:GREGORIAN
METHOD:PUBLISH
X-ORIGINAL-URL:https://raststaette.org
X-WR-CALDESC:Veranstaltungen für Raststätte
REFRESH-INTERVAL;VALUE=DURATION:PT1H
X-Robots-Tag:noindex
X-PUBLISHED-TTL:PT1H
BEGIN:VTIMEZONE
TZID:Europe/Berlin
BEGIN:DAYLIGHT
TZOFFSETFROM:+0100
TZOFFSETTO:+0200
TZNAME:CEST
DTSTART:20260329T010000
END:DAYLIGHT
BEGIN:STANDARD
TZOFFSETFROM:+0200
TZOFFSETTO:+0100
TZNAME:CET
DTSTART:20261025T010000
END:STANDARD
END:VTIMEZONE
BEGIN:VEVENT
DTSTART;TZID=Europe/Berlin:20260131T200000
DTEND;TZID=Europe/Berlin:20260131T220000
DTSTAMP:20260419T185832
CREATED:20251117T155821Z
LAST-MODIFIED:20251117T160053Z
UID:10004268-1769889600-1769896800@raststaette.org
SUMMARY:Antje Wenzel & die Bürgerbande
DESCRIPTION:Antje Wenzel & die Bürgerbande haben eine langjährige Musikerfreundschaft und werfen alles\, was Ihnen an Pop\, Jazz\, Chanson\, Ruhe und Wildheit gefällt in ihre Musik. Die deutschsprachigend Texte fliegen auf schönen Harmonien und Melodien\, die man nicht so schnell vergisst. Die Songs der „Karussell-Tour“ sind melancholisch\, grooving\, fragend und genau so gemeint. \n  \n \nwww.youtube.com/@wenzelantje \nwww.instagram.com/antje_buergerbande \n  \n 
URL:https://raststaette.org/termine/antje-wenzel-die-buergerbande/
LOCATION:Raststätte\, Lothringerstraße 23\, Aachen\, NRW\, 52062\, Deutschland
CATEGORIES:Konzert
ATTACH;FMTTYPE=image/jpeg:https://raststaette.org/wp-content/uploads/2025/11/Antje-Wenzel_1920.jpg
END:VEVENT
END:VCALENDAR